BEGIN:VCALENDAR
VERSION:2.0
PRODID:-//ChamberMaster//Event Calendar 2.0//EN
METHOD:PUBLISH
X-PUBLISHED-TTL:P3D
REFRESH-INTERVAL:P3D
CALSCALE:GREGORIAN
BEGIN:VEVENT
DTSTART:20120913T143000Z
DTEND:20120914T033000Z
X-MICROSOFT-CDO-ALLDAYEVENT:FALSE
SUMMARY:Ribbon Cutting & Grand Opening for Raising Cane's
DESCRIPTION:Join us in welcoming this new restaurant to Cedar Park!  Their one passion is Chicken Fingers.  Stop by for the ribbon cutting and find out why!  Free lunch voucher for those who attend.
X-ALT-DESC;FMTTYPE=text/html:Join us in welcoming this new restaurant to Cedar Park!&nbsp\; Their one passion is Chicken Fingers.&nbsp\; Stop by for the ribbon cutting and find out why!&nbsp\; Free lunch voucher for those who attend.
LOCATION:1456 E. Whitestone Blvd.\, Cedar Park
UID:e.1346.1296
SEQUENCE:3
DTSTAMP:20260423T112149Z
URL:https://business.cedarparkchamber.org/events/details/ribbon-cutting-grand-opening-for-raising-cane-s-09-13-2012-1296
END:VEVENT

END:VCALENDAR
