BEGIN:VCALENDAR
VERSION:2.0
PRODID:-//ChamberMaster//Event Calendar 2.0//EN
METHOD:PUBLISH
X-PUBLISHED-TTL:P3D
REFRESH-INTERVAL:P3D
CALSCALE:GREGORIAN
BEGIN:VEVENT
DTSTART;VALUE=DATE:20231006
DTEND;VALUE=DATE:20231007
TRANSP:TRANSPARENT
X-MICROSOFT-CDO-ALLDAYEVENT:TRUE
SUMMARY:Hill Country Community Ministries Charity Golf Tournament
DESCRIPTION:Join us for our 13th annual HEB Million Dollar Charity Golf Tournament benefitting Hill Country Community Ministries (HCCM)!  Each year we host our annual fundraiser where 10 lucky golfers will get a chance for the "Hole in One" 1 million dollar challgenge.   HCCM operates a food pantry\, daily food cupboard and resource center and provides food\, cothing and other resources to families in need and those that have faced a crisis.  In 2022 we served food to over 91\,000 individuals.  Your support can help us continue our mission.\n\n\n\nSo mark your calendars and sign up today!  Teams and Sponosrship available here.
X-ALT-DESC;FMTTYPE=text/html:Join us for our 13th annual HEB Million Dollar Charity Golf Tournament benefitting Hill Country Community Ministries (HCCM)!&nbsp\; Each year we host our annual fundraiser where 10 lucky golfers will get a chance for the &quot\;Hole in One&quot\; 1 million dollar challgenge.&nbsp\; &nbsp\;HCCM operates a food pantry\, daily food cupboard and resource center and provides food\, cothing and other resources to families in need and those that have faced a crisis.&nbsp\; In 2022 we served food to over 91\,000 individuals.&nbsp\; Your support can help us continue our mission.<br />\n<br />\nSo mark your calendars and sign up today!&nbsp\; Teams and Sponosrship <a href="http://onecau.se/_349371">available here.</a>
LOCATION:October 6th 8:30 am Shotgun Start Crystal Falls Golf Course 3400 Crystal Falls Pkwy Leander TX. 78641 Info available here
UID:e.1346.19559
SEQUENCE:3
DTSTAMP:20260422T064608Z
URL:https://business.cedarparkchamber.org/events/details/hill-country-community-ministries-charity-golf-tournament-19559
END:VEVENT

END:VCALENDAR
