BEGIN:VCALENDAR
VERSION:2.0
PRODID:-//ChamberMaster//Event Calendar 2.0//EN
METHOD:PUBLISH
X-PUBLISHED-TTL:P3D
REFRESH-INTERVAL:P3D
CALSCALE:GREGORIAN
BEGIN:VEVENT
DTSTART:20240419T123000Z
DTEND:20240419T140000Z
X-MICROSOFT-CDO-ALLDAYEVENT:FALSE
SUMMARY:Breakfast with a View - Enhancement Campaign Kickoff Event
DESCRIPTION:Begin your day enjoying breakfast with a view of the New Cedar Park Public Library! We'll share how you can Bookmark Your Legacy at the New Cedar Park Public Library through the Library Foundation's Imagine the Possibilities Enhancement Campaign!\n\n*Please note the New Library is an active construction site\, and it is not open to the public. Breakfast will be in the parking lot close to Bell Boulevard.
X-ALT-DESC;FMTTYPE=text/html:<div>Begin your day enjoying breakfast with a view of the New Cedar Park Public Library! We&#39\;ll share how you can Bookmark Your Legacy at the New Cedar Park Public Library through the Library Foundation&#39\;s Imagine the Possibilities Enhancement Campaign!</div>\n\n<div>*Please note the New Library is an active construction site\, and it is not open to the public. Breakfast will be in the parking lot close to Bell Boulevard.</div>\n
LOCATION:
UID:e.1346.20252
SEQUENCE:3
DTSTAMP:20260421T180147Z
URL:https://business.cedarparkchamber.org/events/details/breakfast-with-a-view-enhancement-campaign-kickoff-event-20252
END:VEVENT

END:VCALENDAR
